BEGIN:VCALENDAR
VERSION:2.0
PRODID:-//Rímskokatolícka cirkev - ECPv6.2.2//NONSGML v1.0//EN
CALSCALE:GREGORIAN
METHOD:PUBLISH
X-WR-CALNAME:Rímskokatolícka cirkev
X-ORIGINAL-URL:https://kapitula.sk
X-WR-CALDESC:Udalosti pre Rímskokatolícka cirkev
REFRESH-INTERVAL;VALUE=DURATION:PT1H
X-Robots-Tag:noindex
X-PUBLISHED-TTL:PT1H
BEGIN:VTIMEZONE
TZID:Europe/Bratislava
BEGIN:DAYLIGHT
TZOFFSETFROM:+0100
TZOFFSETTO:+0200
TZNAME:CEST
DTSTART:20250330T010000
END:DAYLIGHT
BEGIN:STANDARD
TZOFFSETFROM:+0200
TZOFFSETTO:+0100
TZNAME:CET
DTSTART:20251026T010000
END:STANDARD
END:VTIMEZONE
BEGIN:VEVENT
DTSTART;TZID=Europe/Bratislava:20250809T100000
DTEND;TZID=Europe/Bratislava:20250809T120000
DTSTAMP:20260426T051306
CREATED:20250804T092404Z
LAST-MODIFIED:20250804T092404Z
UID:11744-1754733600-1754740800@kapitula.sk
SUMMARY:Pamätný deň smrti Božieho sluhu biskupa Jána Vojtaššáka
DESCRIPTION:Pozývame Vás na slávenie pamätného dňa smrti Božieho sluhu biskupa Jána Vojtaššáka\, ktoré sa uskutoční dňa 9. augusta 2025 v jubilejnom chráme v Zákamennom. Slávnostnú svätú omšu o 10.30 hod. bude celebrovať J.E. Mons. Bernard Bober\, košický arcibiskup-metropolita. \nViac info na webe farnosti.
URL:https://kapitula.sk/event/pamatny-den-smrti-bozieho-sluhu-biskupa-jana-vojtassaka-2/
LOCATION:Jubilejný chrám nanebovzatia Panny Márie\, Zákamenné
CATEGORIES:Diecéza,Farnosti,Jubilejný rok 2025
ATTACH;FMTTYPE=image/jpeg:https://kapitula.sk/wp-content/uploads/2025/08/plagat-60r.jpg
END:VEVENT
END:VCALENDAR