BEGIN:VCALENDAR
VERSION:2.0
PRODID:-//Rímskokatolícka cirkev - ECPv6.2.2//NONSGML v1.0//EN
CALSCALE:GREGORIAN
METHOD:PUBLISH
X-ORIGINAL-URL:https://kapitula.sk
X-WR-CALDESC:Udalosti pre Rímskokatolícka cirkev
REFRESH-INTERVAL;VALUE=DURATION:PT1H
X-Robots-Tag:noindex
X-PUBLISHED-TTL:PT1H
BEGIN:VTIMEZONE
TZID:Europe/Bratislava
BEGIN:DAYLIGHT
TZOFFSETFROM:+0100
TZOFFSETTO:+0200
TZNAME:CEST
DTSTART:20250330T010000
END:DAYLIGHT
BEGIN:STANDARD
TZOFFSETFROM:+0200
TZOFFSETTO:+0100
TZNAME:CET
DTSTART:20251026T010000
END:STANDARD
END:VTIMEZONE
BEGIN:VEVENT
DTSTART;VALUE=DATE:20250810
DTEND;VALUE=DATE:20250811
DTSTAMP:20260426T051248
CREATED:20250804T093134Z
LAST-MODIFIED:20250804T093134Z
UID:11748-1754784000-1754870399@kapitula.sk
SUMMARY:Jubileum otcov\, matiek a rodín
DESCRIPTION:Pozývame všetkých otcov\, matky a deti na Jubileum rodín\, ktoré sa uskutoční dňa 10. augusta 2025 v Zákamennom. Program začne svätou omšou o 14.00 hod. v jubilejnom chráme Nanebovzatia Panny Márie\, ktorú bude celebrovať J.E. Mons. František Trstenský\, spišský diecézny biskup. Po nej bude nasledovať program pre rodiny. Bližšie informácie a program nájdete na plagáte. \nPre lepšiu organizáciu a zabezpečenie Jubilea vás prosíme o registráciu prostredníctvom QR kódu uvedeného na plagáte alebo na webovej stránke farnosti rkczakamenne.sk.
URL:https://kapitula.sk/event/jubileum-otcov-matiek-a-rodin/
LOCATION:Jubilejný chrám nanebovzatia Panny Márie\, Zákamenné
CATEGORIES:Diecéza,Farnosti,Jubilejný rok 2025
ATTACH;FMTTYPE=image/jpeg:https://kapitula.sk/wp-content/uploads/2025/08/1000019902.jpeg
END:VEVENT
END:VCALENDAR