BEGIN:VCALENDAR
VERSION:2.0
PRODID:-//Rímskokatolícka cirkev - ECPv6.2.2//NONSGML v1.0//EN
CALSCALE:GREGORIAN
METHOD:PUBLISH
X-WR-CALNAME:Rímskokatolícka cirkev
X-ORIGINAL-URL:https://kapitula.sk
X-WR-CALDESC:Udalosti pre Rímskokatolícka cirkev
REFRESH-INTERVAL;VALUE=DURATION:PT1H
X-Robots-Tag:noindex
X-PUBLISHED-TTL:PT1H
BEGIN:VTIMEZONE
TZID:Europe/Bratislava
BEGIN:DAYLIGHT
TZOFFSETFROM:+0100
TZOFFSETTO:+0200
TZNAME:CEST
DTSTART:20250330T010000
END:DAYLIGHT
BEGIN:STANDARD
TZOFFSETFROM:+0200
TZOFFSETTO:+0100
TZNAME:CET
DTSTART:20251026T010000
END:STANDARD
BEGIN:DAYLIGHT
TZOFFSETFROM:+0100
TZOFFSETTO:+0200
TZNAME:CEST
DTSTART:20260329T010000
END:DAYLIGHT
BEGIN:STANDARD
TZOFFSETFROM:+0200
TZOFFSETTO:+0100
TZNAME:CET
DTSTART:20261025T010000
END:STANDARD
END:VTIMEZONE
BEGIN:VEVENT
DTSTART;VALUE=DATE:20250917
DTEND;VALUE=DATE:20260618
DTSTAMP:20260425T220951
CREATED:20251116T202115Z
LAST-MODIFIED:20260220T184534Z
UID:12169-1758067200-1781740799@kapitula.sk
SUMMARY:Sväté omše za účasti detí s o. biskupom Františkom
DESCRIPTION:Milí rodičia\, milé deti\, \nraz mesačne v stredu (podľa termínov na plagáte) o 18.00 sa stretneme na svätej omši pre deti v Konkatedrále Sedembolestnej Panny Márie v Poprade. Sväté omše celebruje náš diecézny otec biskup František Trstenský. \nBudeme si hovoriť o Ježišovi v podobenstvách – jednoduchým a blízkym jazykom\, ktorý otvára srdce malých i veľkých. \nChceme\, aby deti cítili\, že v kostole sú doma\, a aby rodičia prežili chvíle viery spolu so svojimi najbližšími.\nCieľom je vytvoriť priestor radosti\, modlitby a Božej blízkosti – kde sa všetci môžeme spoločne učiť žiť Evanjelium. \nTešíme sa na spoločné stretnutia!
URL:https://kapitula.sk/event/svate-omse-za-ucasti-deti/
LOCATION:Konkatedrála Sedembolestnej Panny Márie v Poprade\, Poprad\, 05801
CATEGORIES:Diecéza
ATTACH;FMTTYPE=image/png:https://kapitula.sk/wp-content/uploads/2025/11/dsteske-omse.png
END:VEVENT
BEGIN:VEVENT
DTSTART;VALUE=DATE:20251122
DTEND;VALUE=DATE:20251123
DTSTAMP:20260425T220951
CREATED:20251108T154909Z
LAST-MODIFIED:20251108T154943Z
UID:12110-1763769600-1763855999@kapitula.sk
SUMMARY:Dekanátne stretnutia mládeže
DESCRIPTION:Drahí mladí\, v mene nášho diecézneho otca biskupa Františka vás všetkých pozývame v sobotu 22.11. v predvečer slávnosti Krista Kráľa na Dekanátne stretnutia mládeže. Chceme byť v tomto svete Ježišovými svedkami a tak sa stretnúť spolu ale najmä s Ním. Stretneme sa na piatich miestach našej diecézy: \nv Zákamennom:\n– program začína v novom Kultúrnom dome o 16:00\n– svätá omša o 18:00 vo farskom kostole Nanebovzatia Panny Márie \nv Ružomberku:\n– program začína v telocvični ZŠ sv. Vincenta o 16:00\n– svätá omša o 18:15 bude vo farskom kostole sv. Ondreja \nv Smižanoch:\n– program začína o 16:00 v telocvični Cirkevnej školy Povýšenia sv. Kríža\n– svätá omša o 18:00 bude vo Svätyni Božieho milosrdenstva \nv Poprade:\n– program začína o 16:30 v telocvični Gymnázia Dominika Tatarku\n– svätá omša o 18:30 bude v konkatedrále Sedembolestnej Panny Márie \nv Starej Ľubovni:\n– program začína o 16:30 v telocvični cirkevnej Spojenej školy\n– svätá omša bude o 18:30 vo farskom kostole sv. Mikuláša. \nPríďte so svojimi kamarátmi tam\, kde to máte najbližšie. Tešíme sa na vás 🙂
URL:https://kapitula.sk/event/dekanatne-stretnutia-mladeze/
CATEGORIES:Centrum pastorácie mládeže v Spišskej diecéze,Diecéza
ATTACH;FMTTYPE=image/png:https://kapitula.sk/wp-content/uploads/2025/11/Snímka-obrazovky-2025-11-08-o-16.46.13.png
END:VEVENT
END:VCALENDAR