BEGIN:VCALENDAR
VERSION:2.0
PRODID:-//Rímskokatolícka cirkev - ECPv6.2.2//NONSGML v1.0//EN
CALSCALE:GREGORIAN
METHOD:PUBLISH
X-ORIGINAL-URL:https://kapitula.sk
X-WR-CALDESC:Udalosti pre Rímskokatolícka cirkev
REFRESH-INTERVAL;VALUE=DURATION:PT1H
X-Robots-Tag:noindex
X-PUBLISHED-TTL:PT1H
BEGIN:VTIMEZONE
TZID:Europe/Bratislava
BEGIN:DAYLIGHT
TZOFFSETFROM:+0100
TZOFFSETTO:+0200
TZNAME:CEST
DTSTART:20250330T010000
END:DAYLIGHT
BEGIN:STANDARD
TZOFFSETFROM:+0200
TZOFFSETTO:+0100
TZNAME:CET
DTSTART:20251026T010000
END:STANDARD
END:VTIMEZONE
BEGIN:VEVENT
DTSTART;VALUE=DATE:20250728
DTEND;VALUE=DATE:20250804
DTSTAMP:20260426T032455
CREATED:20250113T102832Z
LAST-MODIFIED:20250113T102832Z
UID:10834-1753660800-1754265599@kapitula.sk
SUMMARY:Stretnutie mladých v Ríme počas Jubilejného roka
DESCRIPTION:Stretnutie mladých v Ríme počas Jubilea bude prebiehať od pondelka 28. júla do nedele 3. augusta 2025. Je určené pre mladých vo veku od 18 do 35 rokov. Program vyvrcholí slávením svätej omše s pápežom Františkom. Počas celého týždňa budú mladí môcť zažiť bohatý kultúrny a duchovný program. \n  \nNaša diecéza ponúka 3 varianty účastí na stretnutí: \nCelotýždňový variant so spoločnou dopravou autobusmi – od nedele 27. 7.\, kedy bude spoločný odchod autobusmi\, do pondelka 4.8.\, kedy sa spoločne autobusmi vrátime. Cena balíčka pútnika je 240€. Cena za cestu je pri registrácii do konca januára 155€ a pri registrácii do konca februára 185€. Spolu teda 395€ pri registrácii do konca januára a 425€ pri registrácii do konca februára. \n  \nCelotýždňový variant bez spoločnej dopravy – od pondelka 28. 7. do nedele 3.8.\, cena balíčka pútnika je 240€. Cestu tam aj späť na tento variant si každý pútnik zabezpečuje po vlastnej osi. \n  \nVíkendový variant bez spoločnej dopravy – od piatka 1. 8. do nedele 3.8.\, cena balíčka pútnika je 120€. Cestu tam aj späť na víkendový variant si každý pútnik zabezpečuje po vlastnej osi. \n  \nViac informácií na svetovednimladeze.sk a mladez.kapitula.sk \n 
URL:https://kapitula.sk/event/stretnutie-mladych-v-rime-pocas-jubilejneho-roka/
CATEGORIES:Centrum pastorácie mládeže v Spišskej diecéze,Jubilejný rok 2025
ATTACH;FMTTYPE=image/jpeg:https://kapitula.sk/wp-content/uploads/2025/01/rim25-spisska-dieceza-Dokument-A4.jpg
ORGANIZER;CN="CENTRUM PASTOR%C3%81CIE ML%C3%81DE%C5%BDE V SPI%C5%A0SKEJ DIEC%C3%89ZE":MAILTO:cpm@kapitula.sk
END:VEVENT
BEGIN:VEVENT
DTSTART;VALUE=DATE:20250730
DTEND;VALUE=DATE:20250803
DTSTAMP:20260426T032455
CREATED:20250727T183231Z
LAST-MODIFIED:20250727T183549Z
UID:11731-1753833600-1754179199@kapitula.sk
SUMMARY:Jubilejné duchovné stretnutie v Krivej
DESCRIPTION:Srdečne pozývame na Jubilejné duchovné stretnutie na Oravu do Krivej pri príležitosti 70. výročia narodenia pre nebo bl. sestry Zdenky. \nViac info na webe farnosti.
URL:https://kapitula.sk/event/jubilejne-duchovne-stretnutie-v-krivej/
LOCATION:Jubilejný chrám sv. Jozefa\, robotníka v Krivej
CATEGORIES:Farnosti,Jubilejný rok 2025
ATTACH;FMTTYPE=image/jpeg:https://kapitula.sk/wp-content/uploads/2025/07/Plagat-scaled-2.jpg
END:VEVENT
END:VCALENDAR