BEGIN:VCALENDAR
VERSION:2.0
PRODID:-//Rímskokatolícka cirkev - ECPv6.2.2//NONSGML v1.0//EN
CALSCALE:GREGORIAN
METHOD:PUBLISH
X-ORIGINAL-URL:https://kapitula.sk
X-WR-CALDESC:Udalosti pre Rímskokatolícka cirkev
REFRESH-INTERVAL;VALUE=DURATION:PT1H
X-Robots-Tag:noindex
X-PUBLISHED-TTL:PT1H
BEGIN:VTIMEZONE
TZID:Europe/Bratislava
BEGIN:DAYLIGHT
TZOFFSETFROM:+0100
TZOFFSETTO:+0200
TZNAME:CEST
DTSTART:20250330T010000
END:DAYLIGHT
BEGIN:STANDARD
TZOFFSETFROM:+0200
TZOFFSETTO:+0100
TZNAME:CET
DTSTART:20251026T010000
END:STANDARD
BEGIN:DAYLIGHT
TZOFFSETFROM:+0100
TZOFFSETTO:+0200
TZNAME:CEST
DTSTART:20260329T010000
END:DAYLIGHT
BEGIN:STANDARD
TZOFFSETFROM:+0200
TZOFFSETTO:+0100
TZNAME:CET
DTSTART:20261025T010000
END:STANDARD
END:VTIMEZONE
BEGIN:VEVENT
DTSTART;VALUE=DATE:20250917
DTEND;VALUE=DATE:20260618
DTSTAMP:20260425T221151
CREATED:20251116T202115Z
LAST-MODIFIED:20260220T184534Z
UID:12169-1758067200-1781740799@kapitula.sk
SUMMARY:Sväté omše za účasti detí s o. biskupom Františkom
DESCRIPTION:Milí rodičia\, milé deti\, \nraz mesačne v stredu (podľa termínov na plagáte) o 18.00 sa stretneme na svätej omši pre deti v Konkatedrále Sedembolestnej Panny Márie v Poprade. Sväté omše celebruje náš diecézny otec biskup František Trstenský. \nBudeme si hovoriť o Ježišovi v podobenstvách – jednoduchým a blízkym jazykom\, ktorý otvára srdce malých i veľkých. \nChceme\, aby deti cítili\, že v kostole sú doma\, a aby rodičia prežili chvíle viery spolu so svojimi najbližšími.\nCieľom je vytvoriť priestor radosti\, modlitby a Božej blízkosti – kde sa všetci môžeme spoločne učiť žiť Evanjelium. \nTešíme sa na spoločné stretnutia!
URL:https://kapitula.sk/event/svate-omse-za-ucasti-deti/
LOCATION:Konkatedrála Sedembolestnej Panny Márie v Poprade\, Poprad\, 05801
CATEGORIES:Diecéza
ATTACH;FMTTYPE=image/png:https://kapitula.sk/wp-content/uploads/2025/11/dsteske-omse.png
END:VEVENT
BEGIN:VEVENT
DTSTART;TZID=Europe/Bratislava:20251031T190000
DTEND;TZID=Europe/Bratislava:20251105T190000
DTSTAMP:20260425T221151
CREATED:20251028T114536Z
LAST-MODIFIED:20251028T115002Z
UID:11994-1761937200-1762369200@kapitula.sk
SUMMARY:Dni svätosti na Spišskej Kapitule
DESCRIPTION:Pri príležitosti blížiacej sa slávnosti Všetkých svätých srdečne pozývame na DNI SVÄTOSTI na Spišskej Kapitule. \nPiatok 31. októbra o 19:00\nZačíname adoráciou svätosti – chvíľou ticha a modlitby pred Pánom. \nSobota 1. novembra\n10:00 – slávnostná svätá omša s diecéznym biskupom Mons. Františkom Trstenským.\nV sprievode prinesieme relikvie svätých a blahoslavených – svedkov viery\, ktorí nás sprevádzajú. \n14:00 – Divadelné predstavenie\n„Aj pápež bol chlapec“ – príbeh sv. Jána Pavla II. \n16:00 – Poeticko-hudobné pásmo\n„Hlasy svätých“ – spev Dominiky Gurbaľovej a prednes Štefana Bučka. \nPočas celých Dní svätosti si budete môcť uctiť relikvie viac ako 60 svätých a blahoslavených.\nKatedrála bude otvorená na modlitbu a ticho až do 5. novembra 2025. \nPríďte načerpať pokoj\, vďaku a dotyk svätosti.
URL:https://kapitula.sk/event/dni-svatosti/
LOCATION:Spišská Kapitula\, Slovenská republika
CATEGORIES:Diecéza
ATTACH;FMTTYPE=image/png:https://kapitula.sk/wp-content/uploads/2025/10/Snímka-obrazovky-2025-10-28-o-12.41.08.png
END:VEVENT
BEGIN:VEVENT
DTSTART;TZID=Europe/Bratislava:20251109T103000
DTEND;TZID=Europe/Bratislava:20251109T120000
DTSTAMP:20260425T221151
CREATED:20251106T100524Z
LAST-MODIFIED:20251106T100524Z
UID:12106-1762684200-1762689600@kapitula.sk
SUMMARY:sviatok sv. Martina\, patróna Spišskej diecézy
DESCRIPTION:Všetkých vás srdečne pozývame osláviť sviatok svätého Martina\, hlavného patróna našej Spišskej diecézy a Katedrály svätého Martina v Spišskej Kapitule. \nJeho príklad viery\, pokory a služby je pre nás stále živým povzbudením. \nNedeľa 9. novembra o 10.30 hod. Katedrála svätého Martina\, Spišská Kapitula. \nHlavným celebrantom a kazateľom bude Mons. Ján Vokál\, biskup diecézy Hradec Králové (Česká republika). \nNech je táto slávnosť spoločným poďakovaním za dar viery a jednoty našej diecézy. Všetci ste srdečne vítaní!
URL:https://kapitula.sk/event/sviatok-sv-martina-patrona-spisskej-diecezy/
LOCATION:Spišská Kapitula\, Slovenská republika
CATEGORIES:Diecéza
ATTACH;FMTTYPE=image/jpeg:https://kapitula.sk/wp-content/uploads/2025/11/svmartin-web.jpg
END:VEVENT
BEGIN:VEVENT
DTSTART;VALUE=DATE:20251122
DTEND;VALUE=DATE:20251123
DTSTAMP:20260425T221151
CREATED:20251108T154909Z
LAST-MODIFIED:20251108T154943Z
UID:12110-1763769600-1763855999@kapitula.sk
SUMMARY:Dekanátne stretnutia mládeže
DESCRIPTION:Drahí mladí\, v mene nášho diecézneho otca biskupa Františka vás všetkých pozývame v sobotu 22.11. v predvečer slávnosti Krista Kráľa na Dekanátne stretnutia mládeže. Chceme byť v tomto svete Ježišovými svedkami a tak sa stretnúť spolu ale najmä s Ním. Stretneme sa na piatich miestach našej diecézy: \nv Zákamennom:\n– program začína v novom Kultúrnom dome o 16:00\n– svätá omša o 18:00 vo farskom kostole Nanebovzatia Panny Márie \nv Ružomberku:\n– program začína v telocvični ZŠ sv. Vincenta o 16:00\n– svätá omša o 18:15 bude vo farskom kostole sv. Ondreja \nv Smižanoch:\n– program začína o 16:00 v telocvični Cirkevnej školy Povýšenia sv. Kríža\n– svätá omša o 18:00 bude vo Svätyni Božieho milosrdenstva \nv Poprade:\n– program začína o 16:30 v telocvični Gymnázia Dominika Tatarku\n– svätá omša o 18:30 bude v konkatedrále Sedembolestnej Panny Márie \nv Starej Ľubovni:\n– program začína o 16:30 v telocvični cirkevnej Spojenej školy\n– svätá omša bude o 18:30 vo farskom kostole sv. Mikuláša. \nPríďte so svojimi kamarátmi tam\, kde to máte najbližšie. Tešíme sa na vás 🙂
URL:https://kapitula.sk/event/dekanatne-stretnutia-mladeze/
CATEGORIES:Centrum pastorácie mládeže v Spišskej diecéze,Diecéza
ATTACH;FMTTYPE=image/png:https://kapitula.sk/wp-content/uploads/2025/11/Snímka-obrazovky-2025-11-08-o-16.46.13.png
END:VEVENT
BEGIN:VEVENT
DTSTART;VALUE=DATE:20251129
DTEND;VALUE=DATE:20260209
DTSTAMP:20260425T221151
CREATED:20251112T095338Z
LAST-MODIFIED:20251112T103833Z
UID:12126-1764374400-1770595199@kapitula.sk
SUMMARY:BETLEHEM – ako symbol rodiny
DESCRIPTION:Srdečne všetkých pozývame vás na sériu vianočných výstav „BETLEHEM – ako symbol rodiny“. \nBetlehem nie je len výjav z minulosti. Je to príbeh o rodine\, viere a nádeji\, ktorý ožíva v umení – od historických diel až po moderné interpretácie. Slávnostné otvorenie výstav s požehnaním adventného venca bude 29. novembra 2025 o 17.30 hod. v areáli Spišskej Kapituly. \nVýstavy sa uskutočnia na týchto miestach: \n\nHistorické betlehemy zo zbierok SNM – Historického múzea\nSpišské diecézne múzeum (Kanónia č. 14)\, Spišská Kapitula \nBetlehemy v súčasnom umení\nMestská výstavná sieň\, Starý jarok 44\, Spišské Podhradie \n\nRezervácie vstupu:\n• infocentrum@kapitula.sk\n+421 944 311 154\n• tic.spisskepodhradie@gmail.com\n+421 53 419 51 33 \nVýstavy potrvajú do 8. februára 2026. \nPríďte objaviť Betlehem ako tiché svetlo rodiny\, ako priestor\, kde sa spája tradícia\, umenie a duchovná hĺbka Adventu. Nech sa aj váš príbeh dotkne tohto svetla. \nPlagát na stiahnutie v PDF.
URL:https://kapitula.sk/event/betlehem-vystava/
CATEGORIES:Diecéza
ATTACH;FMTTYPE=image/jpeg:https://kapitula.sk/wp-content/uploads/2025/11/btelehm.jpg
ORGANIZER;CN="Spi%C5%A1ska diec%C3%A9za":MAILTO:biskupstvo@kapitula.sk
END:VEVENT
BEGIN:VEVENT
DTSTART;TZID=Europe/Bratislava:20251129T100000
DTEND;TZID=Europe/Bratislava:20251129T130000
DTSTAMP:20260425T221151
CREATED:20251112T094246Z
LAST-MODIFIED:20251113T091714Z
UID:12121-1764410400-1764421200@kapitula.sk
SUMMARY:Jubileum predstaviteľov verejnej správy a samosprávy
DESCRIPTION:Vážení primátori\, starostovia\, poslanci miestnych zastupiteľstiev a pracovníci verejnej správy\,\nv rámci prebiehajúceho Svätého roka – Jubilea 2025 Vás srdečne pozývame na spoločné stretnutie s otcom biskupom Mons. Františkom Trstenským\, ktoré sa uskutoční v sobotu 29. novembra 2025 v Starej Ľubovni. Program začne o 10.00 hod. a predpokladaný záver je o 13.00 hod. \nV atmosfére Jubilea chceme spoločne hľadať\, ako obnoviť ducha spolupráce\, dôvery a jednoty v službe ľuďom a spoločnému dobru. \nZ organizačných dôvodov prosíme všetkých účastníkov\, aby sa zaregistrovali do 26. novembra prostredníctvom nasledujúceho formulára. \nZároveň prosíme starostov\, aby túto pozvánku tlmočili aj poslancom obecných a mestských zastupiteľstiev\, ktorých srdečne pozývame k účasti na stretnutí. \nTešíme sa na spoločné stretnutie\, modlitbu a rozhovor o službe pre dobro našich obcí\, miest a celej spoločnosti.
URL:https://kapitula.sk/event/jubileum-verejnej-spravy/
CATEGORIES:Jubilejný rok 2025
END:VEVENT
END:VCALENDAR